Workbook

Sheet Stock on Loan
A1: Group 1
A2: Members | B2: Tents on Loan to Group: | C2: Received Back in Acceptable Condition? | D2: Stoves on Loan to Group: | E2: Received Back in Acceptable Condition? | F2: Rucksacks on Loan to Group: | G2: Received Back in Acceptable Condition? | H2: Compasses on Loan to Group: | I2: Received Back in Acceptable Condition? | J2: Maps on Loan to Group: | K2: Received Back in Acceptable Condition? | L2: Clothing on Loan to Group: | M2: Received Back in Acceptable Condition? | N2: Boots on Loan to Group: | O2: Received Back in Acceptable Condition? | P2: Emergency Equipment on Loan to Group: | Q2: Received Back in Acceptable Condition? | R2: Miscellaneous Items on Loan to Group: | S2: Received Back in Acceptable Condition?
A18: Group 2
A19: Members | B19: Tents on Loan to Group: | C19: Received Back in Acceptable Condition? | D19: Stoves on Loan to Group: | E19: Received Back in Acceptable Condition? | F19: Rucksacks on Loan to Group: | G19: Received Back in Acceptable Condition? | H19: Compasses on Loan to Group: | I19: Received Back in Acceptable Condition? | J19: Maps on Loan to Group: | K19: Received Back in Acceptable Condition? | L19: Clothing on Loan to Group: | M19: Received Back in Acceptable Condition? | N19: Boots on Loan to Group: | O19: Received Back in Acceptable Condition? | P19: Emergency Equipment on Loan to Group: | Q19: Received Back in Acceptable Condition? | R19: Miscellaneous Items on Loan to Group: | S19: Received Back in Acceptable Condition?
A37: Group 3
A38: Members | B38: Tents on Loan to Group: | C38: Received Back in Acceptable Condition? | D38: Stoves on Loan to Group: | E38: Received Back in Acceptable Condition? | F38: Rucksacks on Loan to Group: | G38: Received Back in Acceptable Condition? | H38: Compasses on Loan to Group: | I38: Received Back in Acceptable Condition? | J38: Maps on Loan to Group: | K38: Received Back in Acceptable Condition? | L38: Clothing on Loan to Group: | M38: Received Back in Acceptable Condition? | N38: Boots on Loan to Group: | O38: Received Back in Acceptable Condition? | P38: Emergency Equipment on Loan to Group: | Q38: Received Back in Acceptable Condition? | R38: Miscellaneous Items on Loan to Group: | S38: Received Back in Acceptable Condition?
U41: www.expededucation.org
A54: Group 4
A55: Members | B55: Tents on Loan to Group: | C55: Received Back in Acceptable Condition? | D55: Stoves on Loan to Group: | E55: Received Back in Acceptable Condition? | F55: Rucksacks on Loan to Group: | G55: Received Back in Acceptable Condition? | H55: Compasses on Loan to Group: | I55: Received Back in Acceptable Condition? | J55: Maps on Loan to Group: | K55: Received Back in Acceptable Condition? | L55: Clothing on Loan to Group: | M55: Received Back in Acceptable Condition? | N55: Boots on Loan to Group: | O55: Received Back in Acceptable Condition? | P55: Emergency Equipment on Loan to Group: | Q55: Received Back in Acceptable Condition? | R55: Miscellaneous Items on Loan to Group: | S55: Received Back in Acceptable Condition?
A71: Group 5
A72: Members | B72: Tents on Loan to Group: | C72: Received Back in Acceptable Condition? | D72: Stoves on Loan to Group: | E72: Received Back in Acceptable Condition? | F72: Rucksacks on Loan to Group: | G72: Received Back in Acceptable Condition? | H72: Compasses on Loan to Group: | I72: Received Back in Acceptable Condition? | J72: Maps on Loan to Group: | K72: Received Back in Acceptable Condition? | L72: Clothing on Loan to Group: | M72: Received Back in Acceptable Condition? | N72: Boots on Loan to Group: | O72: Received Back in Acceptable Condition? | P72: Emergency Equipment on Loan to Group: | Q72: Received Back in Acceptable Condition? | R72: Miscellaneous Items on Loan to Group: | S72: Received Back in Acceptable Condition?
A88: Group 6
A89: Members | B89: Tents on Loan to Group: | C89: Received Back in Acceptable Condition? | D89: Stoves on Loan to Group: | E89: Received Back in Acceptable Condition? | F89: Rucksacks on Loan to Group: | G89: Received Back in Acceptable Condition? | H89: Compasses on Loan to Group: | I89: Received Back in Acceptable Condition? | J89: Maps on Loan to Group: | K89: Received Back in Acceptable Condition? | L89: Clothing on Loan to Group: | M89: Received Back in Acceptable Condition? | N89: Boots on Loan to Group: | O89: Received Back in Acceptable Condition? | P89: Emergency Equipment on Loan to Group: | Q89: Received Back in Acceptable Condition? | R89: Miscellaneous Items on Loan to Group: | S89: Received Back in Acceptable Condition?
A105: Group 7
A106: Members | B106: Tents on Loan to Group: | C106: Received Back in Acceptable Condition? | D106: Stoves on Loan to Group: | E106: Received Back in Acceptable Condition? | F106: Rucksacks on Loan to Group: | G106: Received Back in Acceptable Condition? | H106: Compasses on Loan to Group: | I106: Received Back in Acceptable Condition? | J106: Maps on Loan to Group: | K106: Received Back in Acceptable Condition? | L106: Clothing on Loan to Group: | M106: Received Back in Acceptable Condition? | N106: Boots on Loan to Group: | O106: Received Back in Acceptable Condition? | P106: Emergency Equipment on Loan to Group: | Q106: Received Back in Acceptable Condition? | R106: Miscellaneous Items on Loan to Group: | S106: Received Back in Acceptable Condition?
A122: Group 8
A123: Members | B123: Tents on Loan to Group: | C123: Received Back in Acceptable Condition? | D123: Stoves on Loan to Group: | E123: Received Back in Acceptable Condition? | F123: Rucksacks on Loan to Group: | G123: Received Back in Acceptable Condition? | H123: Compasses on Loan to Group: | I123: Received Back in Acceptable Condition? | J123: Maps on Loan to Group: | K123: Received Back in Acceptable Condition? | L123: Clothing on Loan to Group: | M123: Received Back in Acceptable Condition? | N123: Boots on Loan to Group: | O123: Received Back in Acceptable Condition? | P123: Emergency Equipment on Loan to Group: | Q123: Received Back in Acceptable Condition? | R123: Miscellaneous Items on Loan to Group: | S123: Received Back in Acceptable Condition?
A139: Group 9
A140: Members | B140: Tents on Loan to Group: | C140: Received Back in Acceptable Condition? | D140: Stoves on Loan to Group: | E140: Received Back in Acceptable Condition? | F140: Rucksacks on Loan to Group: | G140: Received Back in Acceptable Condition? | H140: Compasses on Loan to Group: | I140: Received Back in Acceptable Condition? | J140: Maps on Loan to Group: | K140: Received Back in Acceptable Condition? | L140: Clothing on Loan to Group: | M140: Received Back in Acceptable Condition? | N140: Boots on Loan to Group: | O140: Received Back in Acceptable Condition? | P140: Emergency Equipment on Loan to Group: | Q140: Received Back in Acceptable Condition? | R140: Miscellaneous Items on Loan to Group: | S140: Received Back in Acceptable Condition?
A159: Group 1
A160: Members | B160: Tents on Loan to Group: | C160: Received Back in Acceptable Condition? | D160: Stoves on Loan to Group: | E160: Received Back in Acceptable Condition? | F160: Rucksacks on Loan to Group: | G160: Received Back in Acceptable Condition? | H160: Compasses on Loan to Group: | I160: Received Back in Acceptable Condition? | J160: Maps on Loan to Group: | K160: Received Back in Acceptable Condition? | L160: Clothing on Loan to Group: | M160: Received Back in Acceptable Condition? | N160: Boots on Loan to Group: | O160: Received Back in Acceptable Condition? | P160: Emergency Equipment on Loan to Group: | Q160: Received Back in Acceptable Condition? | R160: Miscellaneous Items on Loan to Group: | S160: Received Back in Acceptable Condition?
A176: Group 2
A177: Members | B177: Tents on Loan to Group: | C177: Received Back in Acceptable Condition? | D177: Stoves on Loan to Group: | E177: Received Back in Acceptable Condition? | F177: Rucksacks on Loan to Group: | G177: Received Back in Acceptable Condition? | H177: Compasses on Loan to Group: | I177: Received Back in Acceptable Condition? | J177: Maps on Loan to Group: | K177: Received Back in Acceptable Condition? | L177: Clothing on Loan to Group: | M177: Received Back in Acceptable Condition? | N177: Boots on Loan to Group: | O177: Received Back in Acceptable Condition? | P177: Emergency Equipment on Loan to Group: | Q177: Received Back in Acceptable Condition? | R177: Miscellaneous Items on Loan to Group: | S177: Received Back in Acceptable Condition?
A193: Group 3
A194: Members | B194: Tents on Loan to Group: | C194: Received Back in Acceptable Condition? | D194: Stoves on Loan to Group: | E194: Received Back in Acceptable Condition? | F194: Rucksacks on Loan to Group: | G194: Received Back in Acceptable Condition? | H194: Compasses on Loan to Group: | I194: Received Back in Acceptable Condition? | J194: Maps on Loan to Group: | K194: Received Back in Acceptable Condition? | L194: Clothing on Loan to Group: | M194: Received Back in Acceptable Condition? | N194: Boots on Loan to Group: | O194: Received Back in Acceptable Condition? | P194: Emergency Equipment on Loan to Group: | Q194: Received Back in Acceptable Condition? | R194: Miscellaneous Items on Loan to Group: | S194: Received Back in Acceptable Condition?
A210: Group 13
A211: Members | B211: Tents on Loan to Group: | C211: Received Back in Acceptable Condition? | D211: Stoves on Loan to Group: | E211: Received Back in Acceptable Condition? | F211: Rucksacks on Loan to Group: | G211: Received Back in Acceptable Condition? | H211: Compasses on Loan to Group: | I211: Received Back in Acceptable Condition? | J211: Maps on Loan to Group: | K211: Received Back in Acceptable Condition? | L211: Clothing on Loan to Group: | M211: Received Back in Acceptable Condition? | N211: Boots on Loan to Group: | O211: Received Back in Acceptable Condition? | P211: Emergency Equipment on Loan to Group: | Q211: Received Back in Acceptable Condition? | R211: Miscellaneous Items on Loan to Group: | S211: Received Back in Acceptable Condition?
A212: Name 1
A213: Name 2
A214: Name 3
A215: Name 4
A216: Name 5
A217: Name 6
A218: Name 7
A227: Group 14
A228: Members | B228: Tents on Loan to Group: | C228: Received Back in Acceptable Condition? | D228: Stoves on Loan to Group: | E228: Received Back in Acceptable Condition? | F228: Rucksacks on Loan to Group: | G228: Received Back in Acceptable Condition? | H228: Compasses on Loan to Group: | I228: Received Back in Acceptable Condition? | J228: Maps on Loan to Group: | K228: Received Back in Acceptable Condition? | L228: Clothing on Loan to Group: | M228: Received Back in Acceptable Condition? | N228: Boots on Loan to Group: | O228: Received Back in Acceptable Condition? | P228: Emergency Equipment on Loan to Group: | Q228: Received Back in Acceptable Condition? | R228: Miscellaneous Items on Loan to Group: | S228: Received Back in Acceptable Condition?
A229: Name 1
A230: Name 2
A231: Name 3
A232: Name 4
...

Sheet Tents
A1: Tent Name | B1: Total Amount in Stock | C1: Amount on Loan | D1: Currently in Stock | E1: Price Per Tent | F1: Total Cost of Items | G1: Total Cost of Items on Loan
C2: =COUNTIF('Stock on Loan'!A1:Z605, Tents!A2) -> 0 | D2: =SUM(B2-C2) -> 0 | F2: =SUM(E2*B2) -> 0 | G2: =SUM(E2*C2) -> 0
C3: =COUNTIF('Stock on Loan'!A1:Z605, Tents!A3) -> 0 | D3: =SUM(B3-C3) -> 0 | F3: =SUM(E3*B3) -> 0 | G3: =SUM(E3*C3) -> 0
C4: =COUNTIF('Stock on Loan'!A1:Z605, Tents!A4) -> 0 | D4: =SUM(B4-C4) -> 0 | F4: =SUM(E4*B4) -> 0 | G4: =SUM(E4*C4) -> 0
C5: =COUNTIF('Stock on Loan'!A1:Z605, Tents!A5) -> 0 | D5: =SUM(B5-C5) -> 0 | F5: =SUM(E5*B5) -> 0 | G5: =SUM(E5*C5) -> 0
C6: =COUNTIF('Stock on Loan'!A1:Z605, Tents!A6) -> 0 | D6: =SUM(B6-C6) -> 0 | F6: =SUM(E6*B6) -> 0 | G6: =SUM(E6*C6) -> 0
C7: =COUNTIF('Stock on Loan'!A1:Z605, Tents!A7) -> 0 | D7: =SUM(B7-C7) -> 0 | F7: =SUM(E7*B7) -> 0 | G7: =SUM(E7*C7) -> 0
C8: =COUNTIF('Stock on Loan'!A1:Z605, Tents!A8) -> 0 | D8: =SUM(B8-C8) -> 0 | F8: =SUM(E8*B8) -> 0 | G8: =SUM(E8*C8) -> 0
C9: =COUNTIF('Stock on Loan'!A1:Z605, Tents!A9) -> 0 | D9: =SUM(B9-C9) -> 0 | F9: =SUM(E9*B9) -> 0 | G9: =SUM(E9*C9) -> 0
C10: =COUNTIF('Stock on Loan'!A1:Z605, Tents!A10) -> 0 | D10: =SUM(B10-C10) -> 0 | F10: =SUM(E10*B10) -> 0 | G10: =SUM(E10*C10) -> 0
C11: =COUNTIF('Stock on Loan'!A1:Z605, Tents!A11) -> 0 | D11: =SUM(B11-C11) -> 0 | F11: =SUM(E11*B11) -> 0 | G11: =SUM(E11*C11) -> 0
C12: =COUNTIF('Stock on Loan'!A1:Z605, Tents!A12) -> 0 | D12: =SUM(B12-C12) -> 0 | F12: =SUM(E12*B12) -> 0 | G12: =SUM(E12*C12) -> 0
C13: =COUNTIF('Stock on Loan'!A1:Z605, Tents!A13) -> 0 | D13: =SUM(B13-C13) -> 0 | F13: =SUM(E13*B13) -> 0 | G13: =SUM(E13*C13) -> 0
C14: =COUNTIF('Stock on Loan'!A1:Z605, Tents!A14) -> 0 | D14: =SUM(B14-C14) -> 0 | F14: =SUM(E14*B14) -> 0 | G14: =SUM(E14*C14) -> 0
C15: =COUNTIF('Stock on Loan'!A1:Z605, Tents!A15) -> 0 | D15: =SUM(B15-C15) -> 0 | F15: =SUM(E15*B15) -> 0 | G15: =SUM(E15*C15) -> 0
C16: =COUNTIF('Stock on Loan'!A1:Z605, Tents!A16) -> 0 | D16: =SUM(B16-C16) -> 0 | F16: =SUM(E16*B16) -> 0 | G16: =SUM(E16*C16) -> 0
C17: =COUNTIF('Stock on Loan'!A1:Z605, Tents!A17) -> 0 | D17: =SUM(B17-C17) -> 0 | F17: =SUM(E17*B17) -> 0 | G17: =SUM(E17*C17) -> 0
C18: =COUNTIF('Stock on Loan'!A1:Z605, Tents!A18) -> 0 | D18: =SUM(B18-C18) -> 0 | F18: =SUM(E18*B18) -> 0 | G18: =SUM(E18*C18) -> 0
C19: =COUNTIF('Stock on Loan'!A1:Z605, Tents!A19) -> 0 | D19: =SUM(B19-C19) -> 0 | F19: =SUM(E19*B19) -> 0 | G19: =SUM(E19*C19) -> 0
C20: =COUNTIF('Stock on Loan'!A1:Z605, Tents!A20) -> 0 | D20: =SUM(B20-C20) -> 0 | F20: =SUM(E20*B20) -> 0 | G20: =SUM(E20*C20) -> 0
C21: =SUM(C2:C20) -> 0 | F21: =SUM(F2:F20) -> 0 | G21: =SUM(G2:G20) -> 0

Sheet Stoves
A1: Stove Name | B1: Total Amount in Stock | C1: Amount on Loan | D1: Currently in Stock | E1: Price Per Stove | F1: Total Cost of Items | G1: Total Cost of Items on Loan
C2: =COUNTIF('Stock on Loan'!A1:Z605, Stoves!A2) -> 0 | D2: =SUM(B2-C2) -> 0 | F2: =SUM(E2*B2) -> 0 | G2: =SUM(E2*C2) -> 0
C3: =COUNTIF('Stock on Loan'!A1:Z605, Stoves!A3) -> 0 | D3: =SUM(B3-C3) -> 0 | F3: =SUM(E3*B3) -> 0 | G3: =SUM(E3*C3) -> 0
C4: =COUNTIF('Stock on Loan'!A1:Z605, Stoves!A4) -> 0 | D4: =SUM(B4-C4) -> 0 | F4: =SUM(E4*B4) -> 0 | G4: =SUM(E4*C4) -> 0
C5: =COUNTIF('Stock on Loan'!A1:Z605, Stoves!A5) -> 0 | D5: =SUM(B5-C5) -> 0 | F5: =SUM(E5*B5) -> 0 | G5: =SUM(E5*C5) -> 0
C6: =COUNTIF('Stock on Loan'!A1:Z605, Stoves!A6) -> 0 | D6: =SUM(B6-C6) -> 0 | F6: =SUM(E6*B6) -> 0 | G6: =SUM(E6*C6) -> 0
C7: =COUNTIF('Stock on Loan'!A1:Z605, Stoves!A7) -> 0 | D7: =SUM(B7-C7) -> 0 | F7: =SUM(E7*B7) -> 0 | G7: =SUM(E7*C7) -> 0
C8: =COUNTIF('Stock on Loan'!A1:Z605, Stoves!A8) -> 0 | D8: =SUM(B8-C8) -> 0 | F8: =SUM(E8*B8) -> 0 | G8: =SUM(E8*C8) -> 0
C9: =COUNTIF('Stock on Loan'!A1:Z605, Stoves!A9) -> 0 | D9: =SUM(B9-C9) -> 0 | F9: =SUM(E9*B9) -> 0 | G9: =SUM(E9*C9) -> 0
C10: =COUNTIF('Stock on Loan'!A1:Z605, Stoves!A10) -> 0 | D10: =SUM(B10-C10) -> 0 | F10: =SUM(E10*B10) -> 0 | G10: =SUM(E10*C10) -> 0
C11: =COUNTIF('Stock on Loan'!A1:Z605, Stoves!A11) -> 0 | D11: =SUM(B11-C11) -> 0 | F11: =SUM(E11*B11) -> 0 | G11: =SUM(E11*C11) -> 0
C12: =COUNTIF('Stock on Loan'!A1:Z605, Stoves!A12) -> 0 | D12: =SUM(B12-C12) -> 0 | F12: =SUM(E12*B12) -> 0 | G12: =SUM(E12*C12) -> 0
C13: =COUNTIF('Stock on Loan'!A1:Z605, Stoves!A13) -> 0 | D13: =SUM(B13-C13) -> 0 | F13: =SUM(E13*B13) -> 0 | G13: =SUM(E13*C13) -> 0
C14: =COUNTIF('Stock on Loan'!A1:Z605, Stoves!A14) -> 0 | D14: =SUM(B14-C14) -> 0 | F14: =SUM(E14*B14) -> 0 | G14: =SUM(E14*C14) -> 0
C15: =COUNTIF('Stock on Loan'!A1:Z605, Stoves!A15) -> 0 | D15: =SUM(B15-C15) -> 0 | F15: =SUM(E15*B15) -> 0 | G15: =SUM(E15*C15) -> 0
C16: =COUNTIF('Stock on Loan'!A1:Z605, Stoves!A16) -> 0 | D16: =SUM(B16-C16) -> 0 | F16: =SUM(E16*B16) -> 0 | G16: =SUM(E16*C16) -> 0
C17: =COUNTIF('Stock on Loan'!A1:Z605, Stoves!A17) -> 0 | D17: =SUM(B17-C17) -> 0 | F17: =SUM(E17*B17) -> 0 | G17: =SUM(E17*C17) -> 0
C18: =COUNTIF('Stock on Loan'!A1:Z605, Stoves!A18) -> 0 | D18: =SUM(B18-C18) -> 0 | F18: =SUM(E18*B18) -> 0 | G18: =SUM(E18*C18) -> 0
C19: =COUNTIF('Stock on Loan'!A1:Z605, Stoves!A19) -> 0 | D19: =SUM(B19-C19) -> 0 | F19: =SUM(E19*B19) -> 0 | G19: =SUM(E19*C19) -> 0
C20: =COUNTIF('Stock on Loan'!A1:Z605, Stoves!A20) -> 0 | D20: =SUM(B20-C20) -> 0 | F20: =SUM(E20*B20) -> 0 | G20: =SUM(E20*C20) -> 0
C21: =SUM(C2:C20) -> 0 | F21: =SUM(F2:F20) -> 0 | G21: =SUM(G2:G20) -> 0

Sheet Rucksacks
A1: Rucksack Name | B1: Total Amount in Stock | C1: Amount on Loan | D1: Currently in Stock | E1: Price Per Rucksack | F1: Total Cost of Items | G1: Total Cost of Items on Loan
C2: =COUNTIF('Stock on Loan'!A1:Z605, Rucksacks!A2) -> 0 | D2: =SUM(B2-C2) -> 0 | F2: =SUM(E2*B2) -> 0 | G2: =SUM(E2*C2) -> 0
C3: =COUNTIF('Stock on Loan'!A1:Z605, Rucksacks!A3) -> 0 | D3: =SUM(B3-C3) -> 0 | F3: =SUM(E3*B3) -> 0 | G3: =SUM(E3*C3) -> 0
C4: =COUNTIF('Stock on Loan'!A1:Z605, Rucksacks!A4) -> 0 | D4: =SUM(B4-C4) -> 0 | F4: =SUM(E4*B4) -> 0 | G4: =SUM(E4*C4) -> 0
C5: =COUNTIF('Stock on Loan'!A1:Z605, Rucksacks!A5) -> 0 | D5: =SUM(B5-C5) -> 0 | F5: =SUM(E5*B5) -> 0 | G5: =SUM(E5*C5) -> 0
C6: =COUNTIF('Stock on Loan'!A1:Z605, Rucksacks!A6) -> 0 | D6: =SUM(B6-C6) -> 0 | F6: =SUM(E6*B6) -> 0 | G6: =SUM(E6*C6) -> 0
C7: =COUNTIF('Stock on Loan'!A1:Z605, Rucksacks!A7) -> 0 | D7: =SUM(B7-C7) -> 0 | F7: =SUM(E7*B7) -> 0 | G7: =SUM(E7*C7) -> 0
C8: =COUNTIF('Stock on Loan'!A1:Z605, Rucksacks!A8) -> 0 | D8: =SUM(B8-C8) -> 0 | F8: =SUM(E8*B8) -> 0 | G8: =SUM(E8*C8) -> 0
C9: =COUNTIF('Stock on Loan'!A1:Z605, Rucksacks!A9) -> 0 | D9: =SUM(B9-C9) -> 0 | F9: =SUM(E9*B9) -> 0 | G9: =SUM(E9*C9) -> 0
C10: =COUNTIF('Stock on Loan'!A1:Z605, Rucksacks!A10) -> 0 | D10: =SUM(B10-C10) -> 0 | F10: =SUM(E10*B10) -> 0 | G10: =SUM(E10*C10) -> 0
C11: =COUNTIF('Stock on Loan'!A1:Z605, Rucksacks!A11) -> 0 | D11: =SUM(B11-C11) -> 0 | F11: =SUM(E11*B11) -> 0 | G11: =SUM(E11*C11) -> 0
C12: =COUNTIF('Stock on Loan'!A1:Z605, Rucksacks!A12) -> 0 | D12: =SUM(B12-C12) -> 0 | F12: =SUM(E12*B12) -> 0 | G12: =SUM(E12*C12) -> 0
C13: =COUNTIF('Stock on Loan'!A1:Z605, Rucksacks!A13) -> 0 | D13: =SUM(B13-C13) -> 0 | F13: =SUM(E13*B13) -> 0 | G13: =SUM(E13*C13) -> 0
C14: =COUNTIF('Stock on Loan'!A1:Z605, Rucksacks!A14) -> 0 | D14: =SUM(B14-C14) -> 0 | F14: =SUM(E14*B14) -> 0 | G14: =SUM(E14*C14) -> 0
C15: =COUNTIF('Stock on Loan'!A1:Z605, Rucksacks!A15) -> 0 | D15: =SUM(B15-C15) -> 0 | F15: =SUM(E15*B15) -> 0 | G15: =SUM(E15*C15) -> 0
C16: =COUNTIF('Stock on Loan'!A1:Z605, Rucksacks!A16) -> 0 | D16: =SUM(B16-C16) -> 0 | F16: =SUM(E16*B16) -> 0 | G16: =SUM(E16*C16) -> 0
C17: =COUNTIF('Stock on Loan'!A1:Z605, Rucksacks!A17) -> 0 | D17: =SUM(B17-C17) -> 0 | F17: =SUM(E17*B17) -> 0 | G17: =SUM(E17*C17) -> 0
C18: =COUNTIF('Stock on Loan'!A1:Z605, Rucksacks!A18) -> 0 | D18: =SUM(B18-C18) -> 0 | F18: =SUM(E18*B18) -> 0 | G18: =SUM(E18*C18) -> 0
C19: =COUNTIF('Stock on Loan'!A1:Z605, Rucksacks!A19) -> 0 | D19: =SUM(B19-C19) -> 0 | F19: =SUM(E19*B19) -> 0 | G19: =SUM(E19*C19) -> 0
C20: =COUNTIF('Stock on Loan'!A1:Z605, Rucksacks!A20) -> 0 | D20: =SUM(B20-C20) -> 0 | F20: =SUM(E20*B20) -> 0 | G20: =SUM(E20*C20) -> 0
C21: =SUM(C2:C20) -> 0 | F21: =SUM(F2:F20) -> 0 | G21: =SUM(G2:G20) -> 0

Sheet Compasses
A1: Compass Name | B1: Total Amount in Stock | C1: Amount on Loan | D1: Currently in Stock | E1: Price Per Compass | F1: Total Cost of Items | G1: Total Cost of Items on Loan
C2: =COUNTIF('Stock on Loan'!A1:Z605, Compasses!A2) -> 0 | D2: =SUM(B2-C2) -> 0 | F2: =SUM(E2*B2) -> 0 | G2: =SUM(E2*C2) -> 0
C3: =COUNTIF('Stock on Loan'!A1:Z605, Compasses!A3) -> 0 | D3: =SUM(B3-C3) -> 0 | F3: =SUM(E3*B3) -> 0 | G3: =SUM(E3*C3) -> 0
C4: =COUNTIF('Stock on Loan'!A1:Z605, Compasses!A4) -> 0 | D4: =SUM(B4-C4) -> 0 | F4: =SUM(E4*B4) -> 0 | G4: =SUM(E4*C4) -> 0
C5: =COUNTIF('Stock on Loan'!A1:Z605, Compasses!A5) -> 0 | D5: =SUM(B5-C5) -> 0 | F5: =SUM(E5*B5) -> 0 | G5: =SUM(E5*C5) -> 0
C6: =COUNTIF('Stock on Loan'!A1:Z605, Compasses!A6) -> 0 | D6: =SUM(B6-C6) -> 0 | F6: =SUM(E6*B6) -> 0 | G6: =SUM(E6*C6) -> 0
C7: =COUNTIF('Stock on Loan'!A1:Z605, Compasses!A7) -> 0 | D7: =SUM(B7-C7) -> 0 | F7: =SUM(E7*B7) -> 0 | G7: =SUM(E7*C7) -> 0
C8: =COUNTIF('Stock on Loan'!A1:Z605, Compasses!A8) -> 0 | D8: =SUM(B8-C8) -> 0 | F8: =SUM(E8*B8) -> 0 | G8: =SUM(E8*C8) -> 0
C9: =COUNTIF('Stock on Loan'!A1:Z605, Compasses!A9) -> 0 | D9: =SUM(B9-C9) -> 0 | F9: =SUM(E9*B9) -> 0 | G9: =SUM(E9*C9) -> 0
C10: =COUNTIF('Stock on Loan'!A1:Z605, Compasses!A10) -> 0 | D10: =SUM(B10-C10) -> 0 | F10: =SUM(E10*B10) -> 0 | G10: =SUM(E10*C10) -> 0
C11: =COUNTIF('Stock on Loan'!A1:Z605, Compasses!A11) -> 0 | D11: =SUM(B11-C11) -> 0 | F11: =SUM(E11*B11) -> 0 | G11: =SUM(E11*C11) -> 0
C12: =COUNTIF('Stock on Loan'!A1:Z605, Compasses!A12) -> 0 | D12: =SUM(B12-C12) -> 0 | F12: =SUM(E12*B12) -> 0 | G12: =SUM(E12*C12) -> 0
C13: =COUNTIF('Stock on Loan'!A1:Z605, Compasses!A13) -> 0 | D13: =SUM(B13-C13) -> 0 | F13: =SUM(E13*B13) -> 0 | G13: =SUM(E13*C13) -> 0
C14: =COUNTIF('Stock on Loan'!A1:Z605, Compasses!A14) -> 0 | D14: =SUM(B14-C14) -> 0 | F14: =SUM(E14*B14) -> 0 | G14: =SUM(E14*C14) -> 0
C15: =COUNTIF('Stock on Loan'!A1:Z605, Compasses!A15) -> 0 | D15: =SUM(B15-C15) -> 0 | F15: =SUM(E15*B15) -> 0 | G15: =SUM(E15*C15) -> 0
C16: =COUNTIF('Stock on Loan'!A1:Z605, Compasses!A16) -> 0 | D16: =SUM(B16-C16) -> 0 | F16: =SUM(E16*B16) -> 0 | G16: =SUM(E16*C16) -> 0
C17: =COUNTIF('Stock on Loan'!A1:Z605, Compasses!A17) -> 0 | D17: =SUM(B17-C17) -> 0 | F17: =SUM(E17*B17) -> 0 | G17: =SUM(E17*C17) -> 0
C18: =COUNTIF('Stock on Loan'!A1:Z605, Compasses!A18) -> 0 | D18: =SUM(B18-C18) -> 0 | F18: =SUM(E18*B18) -> 0 | G18: =SUM(E18*C18) -> 0
C19: =COUNTIF('Stock on Loan'!A1:Z605, Compasses!A19) -> 0 | D19: =SUM(B19-C19) -> 0 | F19: =SUM(E19*B19) -> 0 | G19: =SUM(E19*C19) -> 0
C20: =COUNTIF('Stock on Loan'!A1:Z605, Compasses!A20) -> 0 | D20: =SUM(B20-C20) -> 0 | F20: =SUM(E20*B20) -> 0 | G20: =SUM(E20*C20) -> 0
C21: =SUM(C2:C20) -> 0 | F21: =SUM(F2:F20) -> 0 | G21: =SUM(G2:G20) -> 0

Sheet Maps
A1: Map Name | B1: Total Amount in Stock | C1: Amount on Loan | D1: Currently in Stock | E1: Price Per Map | F1: Total Cost of Items | G1: Total Cost of Items on Loan
C2: =COUNTIF('Stock on Loan'!A1:Z605, Maps!A2) -> 0 | D2: =SUM(B2-C2) -> 0 | F2: =SUM(E2*B2) -> 0 | G2: =SUM(E2*C2) -> 0
C3: =COUNTIF('Stock on Loan'!A1:Z605, Maps!A3) -> 0 | D3: =SUM(B3-C3) -> 0 | F3: =SUM(E3*B3) -> 0 | G3: =SUM(E3*C3) -> 0
C4: =COUNTIF('Stock on Loan'!A1:Z605, Maps!A4) -> 0 | D4: =SUM(B4-C4) -> 0 | F4: =SUM(E4*B4) -> 0 | G4: =SUM(E4*C4) -> 0
C5: =COUNTIF('Stock on Loan'!A1:Z605, Maps!A5) -> 0 | D5: =SUM(B5-C5) -> 0 | F5: =SUM(E5*B5) -> 0 | G5: =SUM(E5*C5) -> 0
C6: =COUNTIF('Stock on Loan'!A1:Z605, Maps!A6) -> 0 | D6: =SUM(B6-C6) -> 0 | F6: =SUM(E6*B6) -> 0 | G6: =SUM(E6*C6) -> 0
C7: =COUNTIF('Stock on Loan'!A1:Z605, Maps!A7) -> 0 | D7: =SUM(B7-C7) -> 0 | F7: =SUM(E7*B7) -> 0 | G7: =SUM(E7*C7) -> 0
C8: =COUNTIF('Stock on Loan'!A1:Z605, Maps!A8) -> 0 | D8: =SUM(B8-C8) -> 0 | F8: =SUM(E8*B8) -> 0 | G8: =SUM(E8*C8) -> 0
C9: =COUNTIF('Stock on Loan'!A1:Z605, Maps!A9) -> 0 | D9: =SUM(B9-C9) -> 0 | F9: =SUM(E9*B9) -> 0 | G9: =SUM(E9*C9) -> 0
C10: =COUNTIF('Stock on Loan'!A1:Z605, Maps!A10) -> 0 | D10: =SUM(B10-C10) -> 0 | F10: =SUM(E10*B10) -> 0 | G10: =SUM(E10*C10) -> 0
C11: =COUNTIF('Stock on Loan'!A1:Z605, Maps!A11) -> 0 | D11: =SUM(B11-C11) -> 0 | F11: =SUM(E11*B11) -> 0 | G11: =SUM(E11*C11) -> 0
C12: =COUNTIF('Stock on Loan'!A1:Z605, Maps!A12) -> 0 | D12: =SUM(B12-C12) -> 0 | F12: =SUM(E12*B12) -> 0 | G12: =SUM(E12*C12) -> 0
C13: =COUNTIF('Stock on Loan'!A1:Z605, Maps!A13) -> 0 | D13: =SUM(B13-C13) -> 0 | F13: =SUM(E13*B13) -> 0 | G13: =SUM(E13*C13) -> 0
C14: =COUNTIF('Stock on Loan'!A1:Z605, Maps!A14) -> 0 | D14: =SUM(B14-C14) -> 0 | F14: =SUM(E14*B14) -> 0 | G14: =SUM(E14*C14) -> 0
C15: =COUNTIF('Stock on Loan'!A1:Z605, Maps!A15) -> 0 | D15: =SUM(B15-C15) -> 0 | F15: =SUM(E15*B15) -> 0 | G15: =SUM(E15*C15) -> 0
C16: =COUNTIF('Stock on Loan'!A1:Z605, Maps!A16) -> 0 | D16: =SUM(B16-C16) -> 0 | F16: =SUM(E16*B16) -> 0 | G16: =SUM(E16*C16) -> 0
C17: =COUNTIF('Stock on Loan'!A1:Z605, Maps!A17) -> 0 | D17: =SUM(B17-C17) -> 0 | F17: =SUM(E17*B17) -> 0 | G17: =SUM(E17*C17) -> 0
C18: =COUNTIF('Stock on Loan'!A1:Z605, Maps!A18) -> 0 | D18: =SUM(B18-C18) -> 0 | F18: =SUM(E18*B18) -> 0 | G18: =SUM(E18*C18) -> 0
C19: =COUNTIF('Stock on Loan'!A1:Z605, Maps!A19) -> 0 | D19: =SUM(B19-C19) -> 0 | F19: =SUM(E19*B19) -> 0 | G19: =SUM(E19*C19) -> 0
C20: =COUNTIF('Stock on Loan'!A1:Z605, Maps!A20) -> 0 | D20: =SUM(B20-C20) -> 0 | F20: =SUM(E20*B20) -> 0 | G20: =SUM(E20*C20) -> 0
C21: =SUM(C2:C20) -> 0 | F21: =SUM(F2:F20) -> 0 | G21: =SUM(G2:G20) -> 0

Sheet Clothing
A1: Clothing | B1: Total Amount in Stock | C1: Amount on Loan | D1: Currently in Stock | E1: Price Per Clothing | F1: Total Cost of Items | G1: Total Cost of Items on Loan
C2: =COUNTIF('Stock on Loan'!A1:Z605, Clothing!A2) -> 0 | D2: =SUM(B2-C2) -> 0 | F2: =SUM(E2*B2) -> 0 | G2: =SUM(E2*C2) -> 0
C3: =COUNTIF('Stock on Loan'!A1:Z605, Clothing!A3) -> 0 | D3: =SUM(B3-C3) -> 0 | F3: =SUM(E3*B3) -> 0 | G3: =SUM(E3*C3) -> 0
C4: =COUNTIF('Stock on Loan'!A1:Z605, Clothing!A4) -> 0 | D4: =SUM(B4-C4) -> 0 | F4: =SUM(E4*B4) -> 0 | G4: =SUM(E4*C4) -> 0
C5: =COUNTIF('Stock on Loan'!A1:Z605, Clothing!A5) -> 0 | D5: =SUM(B5-C5) -> 0 | F5: =SUM(E5*B5) -> 0 | G5: =SUM(E5*C5) -> 0
C6: =COUNTIF('Stock on Loan'!A1:Z605, Clothing!A6) -> 0 | D6: =SUM(B6-C6) -> 0 | F6: =SUM(E6*B6) -> 0 | G6: =SUM(E6*C6) -> 0
C7: =COUNTIF('Stock on Loan'!A1:Z605, Clothing!A7) -> 0 | D7: =SUM(B7-C7) -> 0 | F7: =SUM(E7*B7) -> 0 | G7: =SUM(E7*C7) -> 0
C8: =COUNTIF('Stock on Loan'!A1:Z605, Clothing!A8) -> 0 | D8: =SUM(B8-C8) -> 0 | F8: =SUM(E8*B8) -> 0 | G8: =SUM(E8*C8) -> 0
C9: =COUNTIF('Stock on Loan'!A1:Z605, Clothing!A9) -> 0 | D9: =SUM(B9-C9) -> 0 | F9: =SUM(E9*B9) -> 0 | G9: =SUM(E9*C9) -> 0
C10: =COUNTIF('Stock on Loan'!A1:Z605, Clothing!A10) -> 0 | D10: =SUM(B10-C10) -> 0 | F10: =SUM(E10*B10) -> 0 | G10: =SUM(E10*C10) -> 0
C11: =COUNTIF('Stock on Loan'!A1:Z605, Clothing!A11) -> 0 | D11: =SUM(B11-C11) -> 0 | F11: =SUM(E11*B11) -> 0 | G11: =SUM(E11*C11) -> 0
C12: =COUNTIF('Stock on Loan'!A1:Z605, Clothing!A12) -> 0 | D12: =SUM(B12-C12) -> 0 | F12: =SUM(E12*B12) -> 0 | G12: =SUM(E12*C12) -> 0
C13: =COUNTIF('Stock on Loan'!A1:Z605, Clothing!A13) -> 0 | D13: =SUM(B13-C13) -> 0 | F13: =SUM(E13*B13) -> 0 | G13: =SUM(E13*C13) -> 0
C14: =COUNTIF('Stock on Loan'!A1:Z605, Clothing!A14) -> 0 | D14: =SUM(B14-C14) -> 0 | F14: =SUM(E14*B14) -> 0 | G14: =SUM(E14*C14) -> 0
C15: =COUNTIF('Stock on Loan'!A1:Z605, Clothing!A15) -> 0 | D15: =SUM(B15-C15) -> 0 | F15: =SUM(E15*B15) -> 0 | G15: =SUM(E15*C15) -> 0
C16: =COUNTIF('Stock on Loan'!A1:Z605, Clothing!A16) -> 0 | D16: =SUM(B16-C16) -> 0 | F16: =SUM(E16*B16) -> 0 | G16: =SUM(E16*C16) -> 0
C17: =COUNTIF('Stock on Loan'!A1:Z605, Clothing!A17) -> 0 | D17: =SUM(B17-C17) -> 0 | F17: =SUM(E17*B17) -> 0 | G17: =SUM(E17*C17) -> 0
C18: =COUNTIF('Stock on Loan'!A1:Z605, Clothing!A18) -> 0 | D18: =SUM(B18-C18) -> 0 | F18: =SUM(E18*B18) -> 0 | G18: =SUM(E18*C18) -> 0
C19: =COUNTIF('Stock on Loan'!A1:Z605, Clothing!A19) -> 0 | D19: =SUM(B19-C19) -> 0 | F19: =SUM(E19*B19) -> 0 | G19: =SUM(E19*C19) -> 0
C20: =COUNTIF('Stock on Loan'!A1:Z605, Clothing!A20) -> 0 | D20: =SUM(B20-C20) -> 0 | F20: =SUM(E20*B20) -> 0 | G20: =SUM(E20*C20) -> 0
C21: =SUM(C2:C20) -> 0 | F21: =SUM(F2:F20) -> 0 | G21: =SUM(G2:G20) -> 0

Sheet Boots
A1: Boot | B1: Total Amount in Stock | C1: Amount on Loan | D1: Currently in Stock | E1: Price Per Boot | F1: Total Cost of Items | G1: Total Cost of Items on Loan
C2: =COUNTIF('Stock on Loan'!A1:Z605, Boots!A2) -> 0 | D2: =SUM(B2-C2) -> 0 | F2: =SUM(E2*B2) -> 0 | G2: =SUM(E2*C2) -> 0
C3: =COUNTIF('Stock on Loan'!A1:Z605, Boots!A3) -> 0 | D3: =SUM(B3-C3) -> 0 | F3: =SUM(E3*B3) -> 0 | G3: =SUM(E3*C3) -> 0
C4: =COUNTIF('Stock on Loan'!A1:Z605, Boots!A4) -> 0 | D4: =SUM(B4-C4) -> 0 | F4: =SUM(E4*B4) -> 0 | G4: =SUM(E4*C4) -> 0
C5: =COUNTIF('Stock on Loan'!A1:Z605, Boots!A5) -> 0 | D5: =SUM(B5-C5) -> 0 | F5: =SUM(E5*B5) -> 0 | G5: =SUM(E5*C5) -> 0
C6: =COUNTIF('Stock on Loan'!A1:Z605, Boots!A6) -> 0 | D6: =SUM(B6-C6) -> 0 | F6: =SUM(E6*B6) -> 0 | G6: =SUM(E6*C6) -> 0
C7: =COUNTIF('Stock on Loan'!A1:Z605, Boots!A7) -> 0 | D7: =SUM(B7-C7) -> 0 | F7: =SUM(E7*B7) -> 0 | G7: =SUM(E7*C7) -> 0
C8: =COUNTIF('Stock on Loan'!A1:Z605, Boots!A8) -> 0 | D8: =SUM(B8-C8) -> 0 | F8: =SUM(E8*B8) -> 0 | G8: =SUM(E8*C8) -> 0
C9: =COUNTIF('Stock on Loan'!A1:Z605, Boots!A9) -> 0 | D9: =SUM(B9-C9) -> 0 | F9: =SUM(E9*B9) -> 0 | G9: =SUM(E9*C9) -> 0
C10: =COUNTIF('Stock on Loan'!A1:Z605, Boots!A10) -> 0 | D10: =SUM(B10-C10) -> 0 | F10: =SUM(E10*B10) -> 0 | G10: =SUM(E10*C10) -> 0
C11: =COUNTIF('Stock on Loan'!A1:Z605, Boots!A11) -> 0 | D11: =SUM(B11-C11) -> 0 | F11: =SUM(E11*B11) -> 0 | G11: =SUM(E11*C11) -> 0
C12: =COUNTIF('Stock on Loan'!A1:Z605, Boots!A12) -> 0 | D12: =SUM(B12-C12) -> 0 | F12: =SUM(E12*B12) -> 0 | G12: =SUM(E12*C12) -> 0
C13: =COUNTIF('Stock on Loan'!A1:Z605, Boots!A13) -> 0 | D13: =SUM(B13-C13) -> 0 | F13: =SUM(E13*B13) -> 0 | G13: =SUM(E13*C13) -> 0
C14: =COUNTIF('Stock on Loan'!A1:Z605, Boots!A14) -> 0 | D14: =SUM(B14-C14) -> 0 | F14: =SUM(E14*B14) -> 0 | G14: =SUM(E14*C14) -> 0
C15: =COUNTIF('Stock on Loan'!A1:Z605, Boots!A15) -> 0 | D15: =SUM(B15-C15) -> 0 | F15: =SUM(E15*B15) -> 0 | G15: =SUM(E15*C15) -> 0
C16: =COUNTIF('Stock on Loan'!A1:Z605, Boots!A16) -> 0 | D16: =SUM(B16-C16) -> 0 | F16: =SUM(E16*B16) -> 0 | G16: =SUM(E16*C16) -> 0
C17: =COUNTIF('Stock on Loan'!A1:Z605, Boots!A17) -> 0 | D17: =SUM(B17-C17) -> 0 | F17: =SUM(E17*B17) -> 0 | G17: =SUM(E17*C17) -> 0
C18: =COUNTIF('Stock on Loan'!A1:Z605, Boots!A18) -> 0 | D18: =SUM(B18-C18) -> 0 | F18: =SUM(E18*B18) -> 0 | G18: =SUM(E18*C18) -> 0
C19: =COUNTIF('Stock on Loan'!A1:Z605, Boots!A19) -> 0 | D19: =SUM(B19-C19) -> 0 | F19: =SUM(E19*B19) -> 0 | G19: =SUM(E19*C19) -> 0
C20: =COUNTIF('Stock on Loan'!A1:Z605, Boots!A20) -> 0 | D20: =SUM(B20-C20) -> 0 | F20: =SUM(E20*B20) -> 0 | G20: =SUM(E20*C20) -> 0
C21: =SUM(C2:C20) -> 0 | F21: =SUM(F2:F20) -> 0 | G21: =SUM(G2:G20) -> 0

Sheet Emergency Items
A1: Item Name | B1: Total Amount in Stock | C1: Amount on Loan | D1: Currently in Stock | E1: Price Per Item | F1: Total Cost of Items | G1: Total Cost of Items on Loan
C2: =COUNTIF('Stock on Loan'!A1:Z605, 'Emergency Items'!A2) -> 0 | D2: =SUM(B2-C2) -> 0 | F2: =SUM(E2*B2) -> 0 | G2: =SUM(E2*C2) -> 0
C3: =COUNTIF('Stock on Loan'!A1:Z605, 'Emergency Items'!A3) -> 0 | D3: =SUM(B3-C3) -> 0 | F3: =SUM(E3*B3) -> 0 | G3: =SUM(E3*C3) -> 0
C4: =COUNTIF('Stock on Loan'!A1:Z605, 'Emergency Items'!A4) -> 0 | D4: =SUM(B4-C4) -> 0 | F4: =SUM(E4*B4) -> 0 | G4: =SUM(E4*C4) -> 0
C5: =COUNTIF('Stock on Loan'!A1:Z605, 'Emergency Items'!A5) -> 0 | D5: =SUM(B5-C5) -> 0 | F5: =SUM(E5*B5) -> 0 | G5: =SUM(E5*C5) -> 0
C6: =COUNTIF('Stock on Loan'!A1:Z605, 'Emergency Items'!A6) -> 0 | D6: =SUM(B6-C6) -> 0 | F6: =SUM(E6*B6) -> 0 | G6: =SUM(E6*C6) -> 0
C7: =COUNTIF('Stock on Loan'!A1:Z605, 'Emergency Items'!A7) -> 0 | D7: =SUM(B7-C7) -> 0 | F7: =SUM(E7*B7) -> 0 | G7: =SUM(E7*C7) -> 0
C8: =COUNTIF('Stock on Loan'!A1:Z605, 'Emergency Items'!A8) -> 0 | D8: =SUM(B8-C8) -> 0 | F8: =SUM(E8*B8) -> 0 | G8: =SUM(E8*C8) -> 0
C9: =COUNTIF('Stock on Loan'!A1:Z605, 'Emergency Items'!A9) -> 0 | D9: =SUM(B9-C9) -> 0 | F9: =SUM(E9*B9) -> 0 | G9: =SUM(E9*C9) -> 0
C10: =COUNTIF('Stock on Loan'!A1:Z605, 'Emergency Items'!A10) -> 0 | D10: =SUM(B10-C10) -> 0 | F10: =SUM(E10*B10) -> 0 | G10: =SUM(E10*C10) -> 0
C11: =COUNTIF('Stock on Loan'!A1:Z605, 'Emergency Items'!A11) -> 0 | D11: =SUM(B11-C11) -> 0 | F11: =SUM(E11*B11) -> 0 | G11: =SUM(E11*C11) -> 0
C12: =COUNTIF('Stock on Loan'!A1:Z605, 'Emergency Items'!A12) -> 0 | D12: =SUM(B12-C12) -> 0 | F12: =SUM(E12*B12) -> 0 | G12: =SUM(E12*C12) -> 0
C13: =COUNTIF('Stock on Loan'!A1:Z605, 'Emergency Items'!A13) -> 0 | D13: =SUM(B13-C13) -> 0 | F13: =SUM(E13*B13) -> 0 | G13: =SUM(E13*C13) -> 0
C14: =COUNTIF('Stock on Loan'!A1:Z605, 'Emergency Items'!A14) -> 0 | D14: =SUM(B14-C14) -> 0 | F14: =SUM(E14*B14) -> 0 | G14: =SUM(E14*C14) -> 0
C15: =COUNTIF('Stock on Loan'!A1:Z605, 'Emergency Items'!A15) -> 0 | D15: =SUM(B15-C15) -> 0 | F15: =SUM(E15*B15) -> 0 | G15: =SUM(E15*C15) -> 0
C16: =COUNTIF('Stock on Loan'!A1:Z605, 'Emergency Items'!A16) -> 0 | D16: =SUM(B16-C16) -> 0 | F16: =SUM(E16*B16) -> 0 | G16: =SUM(E16*C16) -> 0
C17: =COUNTIF('Stock on Loan'!A1:Z605, 'Emergency Items'!A17) -> 0 | D17: =SUM(B17-C17) -> 0 | F17: =SUM(E17*B17) -> 0 | G17: =SUM(E17*C17) -> 0
C18: =COUNTIF('Stock on Loan'!A1:Z605, 'Emergency Items'!A18) -> 0 | D18: =SUM(B18-C18) -> 0 | F18: =SUM(E18*B18) -> 0 | G18: =SUM(E18*C18) -> 0
C19: =COUNTIF('Stock on Loan'!A1:Z605, 'Emergency Items'!A19) -> 0 | D19: =SUM(B19-C19) -> 0 | F19: =SUM(E19*B19) -> 0 | G19: =SUM(E19*C19) -> 0
C20: =COUNTIF('Stock on Loan'!A1:Z605, 'Emergency Items'!A20) -> 0 | D20: =SUM(B20-C20) -> 0 | F20: =SUM(E20*B20) -> 0 | G20: =SUM(E20*C20) -> 0
C21: =SUM(C2:C20) -> 0 | F21: =SUM(F2:F20) -> 0 | G21: =SUM(G2:G20) -> 0

Sheet Gas Bottles
A1: Gas Type | B1: Total Amount in Stock | C1: Amount on Loan | D1: Currently in Stock | E1: Price Per Item | F1: Total Cost of Items | G1: Total Cost of Items on Loan
C2: =COUNTIF('Stock on Loan'!A1:Z605,A2) -> 0 | D2: =SUM(B2-C2) -> 0 | F2: =SUM(E2*B2) -> 0 | G2: =SUM(E2*C2) -> 0
C3: =COUNTIF('Stock on Loan'!A1:Z605,A3) -> 0 | D3: =SUM(B3-C3) -> 0 | F3: =SUM(E3*B3) -> 0 | G3: =SUM(E3*C3) -> 0
C4: =COUNTIF('Stock on Loan'!A1:Z605,A4) -> 0 | D4: =SUM(B4-C4) -> 0 | F4: =SUM(E4*B4) -> 0 | G4: =SUM(E4*C4) -> 0
C5: =COUNTIF('Stock on Loan'!A1:Z605,A5) -> 0 | D5: =SUM(B5-C5) -> 0 | F5: =SUM(E5*B5) -> 0 | G5: =SUM(E5*C5) -> 0
C6: =COUNTIF('Stock on Loan'!A1:Z605,A6) -> 0 | D6: =SUM(B6-C6) -> 0 | F6: =SUM(E6*B6) -> 0 | G6: =SUM(E6*C6) -> 0
C7: =COUNTIF('Stock on Loan'!A1:Z605,A7) -> 0 | D7: =SUM(B7-C7) -> 0 | F7: =SUM(E7*B7) -> 0 | G7: =SUM(E7*C7) -> 0
C8: =COUNTIF('Stock on Loan'!A1:Z605,A8) -> 0 | D8: =SUM(B8-C8) -> 0 | F8: =SUM(E8*B8) -> 0 | G8: =SUM(E8*C8) -> 0
C9: =COUNTIF('Stock on Loan'!A1:Z605,A9) -> 0 | D9: =SUM(B9-C9) -> 0 | F9: =SUM(E9*B9) -> 0 | G9: =SUM(E9*C9) -> 0
C10: =COUNTIF('Stock on Loan'!A1:Z605,A10) -> 0 | D10: =SUM(B10-C10) -> 0 | F10: =SUM(E10*B10) -> 0 | G10: =SUM(E10*C10) -> 0
C11: =COUNTIF('Stock on Loan'!A1:Z605,A11) -> 0 | D11: =SUM(B11-C11) -> 0 | F11: =SUM(E11*B11) -> 0 | G11: =SUM(E11*C11) -> 0
C12: =COUNTIF('Stock on Loan'!A1:Z605,A12) -> 0 | D12: =SUM(B12-C12) -> 0 | F12: =SUM(E12*B12) -> 0 | G12: =SUM(E12*C12) -> 0
C13: =COUNTIF('Stock on Loan'!A1:Z605,A13) -> 0 | D13: =SUM(B13-C13) -> 0 | F13: =SUM(E13*B13) -> 0 | G13: =SUM(E13*C13) -> 0
C14: =COUNTIF('Stock on Loan'!A1:Z605,A14) -> 0 | D14: =SUM(B14-C14) -> 0 | F14: =SUM(E14*B14) -> 0 | G14: =SUM(E14*C14) -> 0
C15: =COUNTIF('Stock on Loan'!A1:Z605,A15) -> 0 | D15: =SUM(B15-C15) -> 0 | F15: =SUM(E15*B15) -> 0 | G15: =SUM(E15*C15) -> 0
C16: =COUNTIF('Stock on Loan'!A1:Z605,A16) -> 0 | D16: =SUM(B16-C16) -> 0 | F16: =SUM(E16*B16) -> 0 | G16: =SUM(E16*C16) -> 0
C17: =COUNTIF('Stock on Loan'!A1:Z605,A17) -> 0 | D17: =SUM(B17-C17) -> 0 | F17: =SUM(E17*B17) -> 0 | G17: =SUM(E17*C17) -> 0
C18: =COUNTIF('Stock on Loan'!A1:Z605,A18) -> 0 | D18: =SUM(B18-C18) -> 0 | F18: =SUM(E18*B18) -> 0 | G18: =SUM(E18*C18) -> 0
C19: =COUNTIF('Stock on Loan'!A1:Z605,A19) -> 0 | D19: =SUM(B19-C19) -> 0 | F19: =SUM(E19*B19) -> 0 | G19: =SUM(E19*C19) -> 0
C20: =COUNTIF('Stock on Loan'!A1:Z605,A20) -> 0 | D20: =SUM(B20-C20) -> 0 | F20: =SUM(E20*B20) -> 0 | G20: =SUM(E20*C20) -> 0
C21: =SUM(C2:C20) -> 0 | F21: =SUM(F2:F20) -> 0 | G21: =SUM(G2:G20) -> 0

Sheet Miscellaneous Items
A1: Item Name | B1: Total Amount in Stock | C1: Amount on Loan | D1: Currently in Stock | E1: Price Per Item | F1: Total Cost of Items | G1: Total Cost of Items on Loan
C2: =COUNTIF('Stock on Loan'!A1:Z605, A2) -> 0 | D2: =SUM(B2-C2) -> 0 | F2: =SUM(E2*B2) -> 0 | G2: =SUM(E2*C2) -> 0
C3: =COUNTIF('Stock on Loan'!A1:Z605, A3) -> 0 | D3: =SUM(B3-C3) -> 0 | F3: =SUM(E3*B3) -> 0 | G3: =SUM(E3*C3) -> 0
C4: =COUNTIF('Stock on Loan'!A1:Z605, A4) -> 0 | D4: =SUM(B4-C4) -> 0 | F4: =SUM(E4*B4) -> 0 | G4: =SUM(E4*C4) -> 0
C5: =COUNTIF('Stock on Loan'!A1:Z605, A5) -> 0 | D5: =SUM(B5-C5) -> 0 | F5: =SUM(E5*B5) -> 0 | G5: =SUM(E5*C5) -> 0
C6: =COUNTIF('Stock on Loan'!A1:Z605, A6) -> 0 | D6: =SUM(B6-C6) -> 0 | F6: =SUM(E6*B6) -> 0 | G6: =SUM(E6*C6) -> 0
C7: =COUNTIF('Stock on Loan'!A1:Z605, A7) -> 0 | D7: =SUM(B7-C7) -> 0 | F7: =SUM(E7*B7) -> 0 | G7: =SUM(E7*C7) -> 0
C8: =COUNTIF('Stock on Loan'!A1:Z605, A8) -> 0 | D8: =SUM(B8-C8) -> 0 | F8: =SUM(E8*B8) -> 0 | G8: =SUM(E8*C8) -> 0
C9: =COUNTIF('Stock on Loan'!A1:Z605, A9) -> 0 | D9: =SUM(B9-C9) -> 0 | F9: =SUM(E9*B9) -> 0 | G9: =SUM(E9*C9) -> 0
C10: =COUNTIF('Stock on Loan'!A1:Z605, A10) -> 0 | D10: =SUM(B10-C10) -> 0 | F10: =SUM(E10*B10) -> 0 | G10: =SUM(E10*C10) -> 0
C11: =COUNTIF('Stock on Loan'!A1:Z605, A11) -> 0 | D11: =SUM(B11-C11) -> 0 | F11: =SUM(E11*B11) -> 0 | G11: =SUM(E11*C11) -> 0
C12: =COUNTIF('Stock on Loan'!A1:Z605, A12) -> 0 | D12: =SUM(B12-C12) -> 0 | F12: =SUM(E12*B12) -> 0 | G12: =SUM(E12*C12) -> 0
C13: =COUNTIF('Stock on Loan'!A1:Z605, A13) -> 0 | D13: =SUM(B13-C13) -> 0 | F13: =SUM(E13*B13) -> 0 | G13: =SUM(E13*C13) -> 0
C14: =COUNTIF('Stock on Loan'!A1:Z605, A14) -> 0 | D14: =SUM(B14-C14) -> 0 | F14: =SUM(E14*B14) -> 0 | G14: =SUM(E14*C14) -> 0
C15: =COUNTIF('Stock on Loan'!A1:Z605, A15) -> 0 | D15: =SUM(B15-C15) -> 0 | F15: =SUM(E15*B15) -> 0 | G15: =SUM(E15*C15) -> 0
C16: =COUNTIF('Stock on Loan'!A1:Z605, A16) -> 0 | D16: =SUM(B16-C16) -> 0 | F16: =SUM(E16*B16) -> 0 | G16: =SUM(E16*C16) -> 0
C17: =COUNTIF('Stock on Loan'!A1:Z605, A17) -> 0 | D17: =SUM(B17-C17) -> 0 | F17: =SUM(E17*B17) -> 0 | G17: =SUM(E17*C17) -> 0
C18: =COUNTIF('Stock on Loan'!A1:Z605, A18) -> 0 | D18: =SUM(B18-C18) -> 0 | F18: =SUM(E18*B18) -> 0 | G18: =SUM(E18*C18) -> 0
C19: =COUNTIF('Stock on Loan'!A1:Z605, A19) -> 0 | D19: =SUM(B19-C19) -> 0 | F19: =SUM(E19*B19) -> 0 | G19: =SUM(E19*C19) -> 0
C20: =COUNTIF('Stock on Loan'!A1:Z605, A20) -> 0 | D20: =SUM(B20-C20) -> 0 | F20: =SUM(E20*B20) -> 0 | G20: =SUM(E20*C20) -> 0
C21: =COUNTIF('Stock on Loan'!A1:Z605, A21) -> 0 | D21: =SUM(B21-C21) -> 0 | F21: =SUM(E21*B21) -> 0 | G21: =SUM(E21*C21) -> 0
C22: =COUNTIF('Stock on Loan'!A1:Z605, A22) -> 0 | D22: =SUM(B22-C22) -> 0 | F22: =SUM(E22*B22) -> 0 | G22: =SUM(E22*C22) -> 0
C23: =COUNTIF('Stock on Loan'!A1:Z605, A23) -> 0 | D23: =SUM(B23-C23) -> 0 | F23: =SUM(E23*B23) -> 0 | G23: =SUM(E23*C23) -> 0
C24: =COUNTIF('Stock on Loan'!A1:Z605, A24) -> 0 | D24: =SUM(B24-C24) -> 0 | F24: =SUM(E24*B24) -> 0 | G24: =SUM(E24*C24) -> 0
C25: =COUNTIF('Stock on Loan'!A1:Z605, A25) -> 0 | D25: =SUM(B25-C25) -> 0 | F25: =SUM(E25*B25) -> 0 | G25: =SUM(E25*C25) -> 0
C26: =COUNTIF('Stock on Loan'!A1:Z605, A26) -> 0 | D26: =SUM(B26-C26) -> 0 | F26: =SUM(E26*B26) -> 0 | G26: =SUM(E26*C26) -> 0
C27: =COUNTIF('Stock on Loan'!A1:Z605, A27) -> 0 | D27: =SUM(B27-C27) -> 0 | F27: =SUM(E27*B27) -> 0 | G27: =SUM(E27*C27) -> 0
C28: =COUNTIF('Stock on Loan'!A1:Z605, A28) -> 0 | D28: =SUM(B28-C28) -> 0 | F28: =SUM(E28*B28) -> 0 | G28: =SUM(E28*C28) -> 0
C29: =COUNTIF('Stock on Loan'!A1:Z605, A29) -> 0 | D29: =SUM(B29-C29) -> 0 | F29: =SUM(E29*B29) -> 0 | G29: =SUM(E29*C29) -> 0
C30: =COUNTIF('Stock on Loan'!A1:Z605, A30) -> 0 | D30: =SUM(B30-C30) -> 0 | F30: =SUM(E30*B30) -> 0 | G30: =SUM(E30*C30) -> 0
C31: =COUNTIF('Stock on Loan'!A1:Z605, A31) -> 0 | D31: =SUM(B31-C31) -> 0 | F31: =SUM(E31*B31) -> 0 | G31: =SUM(E31*C31) -> 0
C32: =COUNTIF('Stock on Loan'!A1:Z605, A32) -> 0 | D32: =SUM(B32-C32) -> 0 | F32: =SUM(E32*B32) -> 0 | G32: =SUM(E32*C32) -> 0
C33: =COUNTIF('Stock on Loan'!A1:Z605, A33) -> 0 | D33: =SUM(B33-C33) -> 0 | F33: =SUM(E33*B33) -> 0 | G33: =SUM(E33*C33) -> 0
C34: =COUNTIF('Stock on Loan'!A1:Z605, A34) -> 0 | D34: =SUM(B34-C34) -> 0 | F34: =SUM(E34*B34) -> 0 | G34: =SUM(E34*C34) -> 0
C35: =COUNTIF('Stock on Loan'!A1:Z605, A35) -> 0 | D35: =SUM(B35-C35) -> 0 | F35: =SUM(E35*B35) -> 0 | G35: =SUM(E35*C35) -> 0
C36: =COUNTIF('Stock on Loan'!A1:Z605, A36) -> 0 | D36: =SUM(B36-C36) -> 0 | F36: =SUM(E36*B36) -> 0 | G36: =SUM(E36*C36) -> 0
C37: =COUNTIF('Stock on Loan'!A1:Z605, A37) -> 0 | D37: =SUM(B37-C37) -> 0 | F37: =SUM(E37*B37) -> 0 | G37: =SUM(E37*C37) -> 0
C38: =COUNTIF('Stock on Loan'!A1:Z605, A38) -> 0 | D38: =SUM(B38-C38) -> 0 | F38: =SUM(E38*B38) -> 0 | G38: =SUM(E38*C38) -> 0
C39: =COUNTIF('Stock on Loan'!A1:Z605, A39) -> 0 | D39: =SUM(B39-C39) -> 0 | F39: =SUM(E39*B39) -> 0 | G39: =SUM(E39*C39) -> 0
C40: =COUNTIF('Stock on Loan'!A1:Z605, A40) -> 0 | D40: =SUM(B40-C40) -> 0 | F40: =SUM(E40*B40) -> 0 | G40: =SUM(E40*C40) -> 0
...

Sheet Totals
A1: Number of Items on Loan | C1: Total Cost of All Items on Loan | E1: Total Cost of All Stock Items
A2: =SUM(Tents!C21,Stoves!C21,Rucksacks!C21,Compasses!C21,Maps!C21,Clothing!C21,Boots!C21,'Emergency Items'!C21,'Gas Bottles'!C21,'Miscellaneous Items'!C59) -> 0 | C2: =SUM(Tents!G21,Stoves!G21,Rucksacks!G21,Compasses!G21,Maps!G21,Clothing!G21,Boots!G21,'Emergency Items'!G21,'Gas Bottles'!G21,'Miscellaneous Items'!G59) -> 0 | E2: =SUM(Tents!F21,Stoves!F21,Rucksacks!F21,Compasses!F21,Maps!F21,Clothing!F21,Boots!F21,'Emergency Items'!F21,'Gas Bottles'!F21,'Miscellaneous Items'!F59) -> 0

Sheet Overview
A1: Total Amount of Items in Stock | B1: Total Retail Price of Kit
A2: =SUM(Tents!B2:B20,Stoves!B2:B20,Rucksacks!B2:B20,Compasses!B2:B20,Maps!B2:B20,Clothing!B2:B20,Boots!B2:B20,'Emergency Items'!B2:B20,'Gas Bottles'!B2:B20,'Miscellaneous Items'!B2:B58) -> 0 | B2: =SUM(Tents!F2:F20,Stoves!F2:F20,Rucksacks!F2:F20,Compasses!F2:F20,Maps!F2:F20,Clothing!F2:F20,Boots!F2:F20,'Emergency Items'!F2:F20,'Gas Bottles'!F2:F20,'Miscellaneous Items'!F2:F58) -> 0
